Workbook

Sheet DOE_2x2
A1: StdOrder | B1: RunOrder | C1: FinishTemp_C | D1: Nb_wt_pct | E1: A_coded | F1: B_coded | G1: AB_coded | H1: Charpy_J | J1: Fictitious practice data. Rows are in standard order; RunOrder is the randomized run sequence.
A2: 1 | B2: 3 | C2: 820 | D2: 0.02 | E2: -1 | F2: -1 | G2: =E2*F2 -> 1 | H2: 133.1
A3: 2 | B3: 8 | C3: 880 | D3: 0.02 | E3: 1 | F3: -1 | G3: =E3*F3 -> -1 | H3: 87.8
A4: 3 | B4: 9 | C4: 820 | D4: 0.04 | E4: -1 | F4: 1 | G4: =E4*F4 -> -1 | H4: 135.5
A5: 4 | B5: 6 | C5: 880 | D5: 0.04 | E5: 1 | F5: 1 | G5: =E5*F5 -> 1 | H5: 128
A6: 5 | B6: 4 | C6: 820 | D6: 0.02 | E6: -1 | F6: -1 | G6: =E6*F6 -> 1 | H6: 141.6
A7: 6 | B7: 12 | C7: 880 | D7: 0.02 | E7: 1 | F7: -1 | G7: =E7*F7 -> -1 | H7: 88.7
A8: 7 | B8: 5 | C8: 820 | D8: 0.04 | E8: -1 | F8: 1 | G8: =E8*F8 -> -1 | H8: 136
A9: 8 | B9: 2 | C9: 880 | D9: 0.04 | E9: 1 | F9: 1 | G9: =E9*F9 -> 1 | H9: 127.8
A10: 9 | B10: 10 | C10: 820 | D10: 0.02 | E10: -1 | F10: -1 | G10: =E10*F10 -> 1 | H10: 137.2
A11: 10 | B11: 7 | C11: 880 | D11: 0.02 | E11: 1 | F11: -1 | G11: =E11*F11 -> -1 | H11: 87.5
A12: 11 | B12: 11 | C12: 820 | D12: 0.04 | E12: -1 | F12: 1 | G12: =E12*F12 -> -1 | H12: 127.4
A13: 12 | B13: 1 | C13: 880 | D13: 0.04 | E13: 1 | F13: 1 | G13: =E13*F13 -> 1 | H13: 125.4

Sheet Historical_Heats
A1: Heat | B1: FinishTemp_C | C1: Nb_wt_pct | D1: C_wt_pct | E1: Mn_wt_pct | F1: Charpy_J | G1: Hardness_HV10 | I1: Fictitious observational data for 40 heats (not a designed experiment).
A2: H001 | B2: 861 | C2: 0.03 | D2: 0.108 | E2: 1.6 | F2: 111.3 | G2: 184
A3: H002 | B3: 829 | C3: 0.028 | D3: 0.108 | E3: 1.57 | F3: 126 | G3: 182
A4: H003 | B4: 883 | C4: 0.03 | D4: 0.091 | E4: 1.24 | F4: 100.8 | G4: 166
A5: H004 | B5: 823 | C5: 0.022 | D5: 0.077 | E5: 1.24 | F5: 125.7 | G5: 151
A6: H005 | B6: 851 | C6: 0.023 | D6: 0.063 | E6: 1.01 | F6: 108.5 | G6: 132
A7: H006 | B7: 861 | C7: 0.031 | D7: 0.083 | E7: 1.28 | F7: 120.5 | G7: 164
A8: H007 | B8: 849 | C8: 0.036 | D8: 0.085 | E8: 1.3 | F8: 126.5 | G8: 157
A9: H008 | B9: 861 | C9: 0.039 | D9: 0.063 | E9: 0.96 | F9: 124.5 | G9: 135
A10: H009 | B10: 836 | C10: 0.03 | D10: 0.063 | E10: 1.07 | F10: 128.8 | G10: 141
A11: H010 | B11: 857 | C11: 0.037 | D11: 0.12 | E11: 1.63 | F11: 131.5 | G11: 195
A12: H011 | B12: 880 | C12: 0.018 | D12: 0.099 | E12: 1.5 | F12: 86.3 | G12: 179
A13: H012 | B13: 833 | C13: 0.026 | D13: 0.074 | E13: 1.12 | F13: 133 | G13: 156
... A41: H040 | B41: 867 | C41: 0.032 | D41: 0.102 | E41: 1.45 | F41: 113.5 | G41: 181

Sheet Effects_Worksheet
A1: 2x2 effects from the DOE_2x2 sheet (all cells are formulas)
A3: Cell mean, A low (820 °C), B low (0.020 % Nb) | B3: =AVERAGEIFS(DOE_2x2!$H$2:$H$13,DOE_2x2!$E$2:$E$13,-1,DOE_2x2!$F$2:$F$13,-1) -> 137.3 | C3: AVERAGEIFS(average_range, criteria_range1, criteria1, criteria_range2, criteria2)
A4: Cell mean, A high (880 °C), B low (0.020 % Nb) | B4: =AVERAGEIFS(DOE_2x2!$H$2:$H$13,DOE_2x2!$E$2:$E$13,1,DOE_2x2!$F$2:$F$13,-1) -> 88
A5: Cell mean, A low (820 °C), B high (0.040 % Nb) | B5: =AVERAGEIFS(DOE_2x2!$H$2:$H$13,DOE_2x2!$E$2:$E$13,-1,DOE_2x2!$F$2:$F$13,1) -> 132.96667
A6: Cell mean, A high (880 °C), B high (0.040 % Nb) | B6: =AVERAGEIFS(DOE_2x2!$H$2:$H$13,DOE_2x2!$E$2:$E$13,1,DOE_2x2!$F$2:$F$13,1) -> 127.06667
A7: Effect of A (temperature) | B7: =AVERAGEIFS(DOE_2x2!$H$2:$H$13,DOE_2x2!$E$2:$E$13,1)-AVERAGEIFS(DOE_2x2!$H$2:$H$13,DOE_2x2!$E$2:$E$13,-1) -> -27.6 | C7: Mean at +1 minus mean at -1
A8: Effect of B (Nb) | B8: =AVERAGEIFS(DOE_2x2!$H$2:$H$13,DOE_2x2!$F$2:$F$13,1)-AVERAGEIFS(DOE_2x2!$H$2:$H$13,DOE_2x2!$F$2:$F$13,-1) -> 17.366667
A9: Effect of AB (interaction) | B9: =AVERAGEIFS(DOE_2x2!$H$2:$H$13,DOE_2x2!$G$2:$G$13,1)-AVERAGEIFS(DOE_2x2!$H$2:$H$13,DOE_2x2!$G$2:$G$13,-1) -> 21.7 | C9: Uses the AB_coded column (product of the coded factors)
A10: Coefficient of AB (= effect / 2) | B10: =B9/2 -> 10.85 | C10: Minitab reports Coef = Effect / 2 for coded -1/+1 factors
A11: Simple effect of A at B low | B11: =B4-B3 -> -49.3 | C11: How much temperature moves Charpy at 0.020 % Nb
A12: Simple effect of A at B high | B12: =B6-B5 -> -5.9 | C12: How much temperature moves Charpy at 0.040 % Nb
A13: AB coefficient from LINEST | B13: =INDEX(LINEST(DOE_2x2!$H$2:$H$13,DOE_2x2!$E$2:$G$13),1,1) -> 10.85 | C13: LINEST lists coefficients in reverse column order: AB, B, A, intercept
A14: A coefficient from LINEST | B14: =INDEX(LINEST(DOE_2x2!$H$2:$H$13,DOE_2x2!$E$2:$G$13),1,3) -> -13.8
A15: Intercept from LINEST | B15: =INDEX(LINEST(DOE_2x2!$H$2:$H$13,DOE_2x2!$E$2:$G$13),1,4) -> 121.33333 | C15: Grand mean of all 12 runs
A18: Association checks on Historical_Heats
A19: Correlation of C % and Mn % | B19: =CORREL(Historical_Heats!$D$2:$D$41,Historical_Heats!$E$2:$E$41) -> 0.9558172 | C19: CORREL(array1, array2)
A20: VIF of C % or Mn % (two-predictor model) | B20: =1/(1-RSQ(Historical_Heats!$D$2:$D$41,Historical_Heats!$E$2:$E$41)) -> 11.572269 | C20: VIF = 1 / (1 - R squared of one X on the other)
A21: Correlation of finishing temperature and Nb % | B21: =CORREL(Historical_Heats!$B$2:$B$41,Historical_Heats!$C$2:$C$41) -> -0.065581908 | C21: Near zero: these two X's are not associated
A23: Green text = formulas that read the data sheets. Change any Charpy_J value and every result updates.

Sheet Data_Dictionary
A1: All data in this workbook is fictitious and was generated for teaching. It is not plant or customer data.
A3: Sheet | B3: Column | C3: Meaning
A4: DOE_2x2 | B4: StdOrder | C4: Standard (Yates) order of the run, 1-12
A5: DOE_2x2 | B5: RunOrder | C5: Randomized order in which the run was made
A6: DOE_2x2 | B6: FinishTemp_C | C6: Factor A: finishing rolling temperature, °C (820 low, 880 high)
A7: DOE_2x2 | B7: Nb_wt_pct | C7: Factor B: niobium content, weight % (0.020 low, 0.040 high)
A8: DOE_2x2 | B8: A_coded | C8: Factor A in coded units (-1 low, +1 high)
A9: DOE_2x2 | B9: B_coded | C9: Factor B in coded units (-1 low, +1 high)
A10: DOE_2x2 | B10: AB_coded | C10: Interaction column: A_coded x B_coded (formula)
A11: DOE_2x2 | B11: Charpy_J | C11: Response: Charpy V-notch absorbed energy, joules
A12: Historical_Heats | B12: Heat | C12: Heat identifier
A13: Historical_Heats | B13: FinishTemp_C | C13: Recorded finishing temperature, °C (not controlled)
A14: Historical_Heats | B14: Nb_wt_pct | C14: Recorded niobium content, weight %
... A19: Effects_Worksheet | B19: (all) | C19: Formulas that reproduce the lesson's hand calculations with AVERAGEIFS, LINEST, CORREL and RSQ
